BEGIN:VCALENDAR
VERSION:2.0
BEGIN:VEVENT
DTSTART:20230517T123000Z
DTEND:20230518T213000Z
SUMMARY:Rendez-vous CP 2023
DESCRIPTION:Grand rassemblement de la communauté CP des établissements collégiaux et universitaires québécois autour de la compétence numérique.
LOCATION:Présentiel et en ligne
END:VEVENT
END:VCALENDAR
