BEGIN:VCALENDAR
VERSION:2.0
PRODID:-//i-mersion CP - ECPv6.15.20//NONSGML v1.0//EN
CALSCALE:GREGORIAN
METHOD:PUBLISH
X-ORIGINAL-URL:https://i-mersioncp.ca
X-WR-CALDESC:Événements pour i-mersion CP
REFRESH-INTERVAL;VALUE=DURATION:PT1H
X-Robots-Tag:noindex
X-PUBLISHED-TTL:PT1H
BEGIN:VTIMEZONE
TZID:America/Toronto
BEGIN:DAYLIGHT
TZOFFSETFROM:-0500
TZOFFSETTO:-0400
TZNAME:EDT
DTSTART:20230312T070000
END:DAYLIGHT
BEGIN:STANDARD
TZOFFSETFROM:-0400
TZOFFSETTO:-0500
TZNAME:EST
DTSTART:20231105T060000
END:STANDARD
BEGIN:DAYLIGHT
TZOFFSETFROM:-0500
TZOFFSETTO:-0400
TZNAME:EDT
DTSTART:20240310T070000
END:DAYLIGHT
BEGIN:STANDARD
TZOFFSETFROM:-0400
TZOFFSETTO:-0500
TZNAME:EST
DTSTART:20241103T060000
END:STANDARD
BEGIN:DAYLIGHT
TZOFFSETFROM:-0500
TZOFFSETTO:-0400
TZNAME:EDT
DTSTART:20250309T070000
END:DAYLIGHT
BEGIN:STANDARD
TZOFFSETFROM:-0400
TZOFFSETTO:-0500
TZNAME:EST
DTSTART:20251102T060000
END:STANDARD
END:VTIMEZONE
BEGIN:VEVENT
DTSTART;TZID=America/Toronto:20240925T100000
DTEND;TZID=America/Toronto:20240925T113000
DTSTAMP:20260419T101112
CREATED:20240620T185554Z
LAST-MODIFIED:20251103T195223Z
UID:2060-1727258400-1727263800@i-mersioncp.ca
SUMMARY:Gestion du chaos 101...
DESCRIPTION:Comprendre les concepts essentiels de la gestion du chaos et du changement.\n\n\n\nExaminer des exemples concrets de situations chaotiques dans l’apprentissage numérique.\n\n\n\nParticiper à une analyse de mini-cas illustrant différents défis de gestion du changement.\n\n\n\nCollaborer en petits groupes pour générer des stratégies concrètes de gestion du changement.\n\n\n\nÉchanger des expériences et des idées lors d’une session de questions-réponses et de discussions en plénière.\n\n\n\nConclure en résumant les points clés et en encourageant les participants à mettre en pratique les stratégies discutées dans leurs contextes professionnels respectifs.\n\n  \n\n\n\n\n\n\n\n \nZyad Chouadhi\n\n\n\nExpert en innovation numérique\, conférencier\, auteur et facilitateur \n\n\n\n\n\n\n\nZyad Chouadhi est un expert en innovation numérique\, conférencier\, auteur et facilitateur. Avec plus de 25 ans d’expérience\, il partage ses connaissances et idées sur Medium ou LinkedIn. \n\n\n\nPour en savoir plus\, visitez le site zyadchouadhi.com.
URL:https://i-mersioncp.ca/event/gestion-du-chaos-101-ou-quelques-reflexions-pratiques-pour-accompagner-le-changement-et-se-sauver-du-temps/
ATTACH;FMTTYPE=image/png:https://i-mersioncp.ca/wp-content/uploads/2024/06/20240925_Gestion-du-chaos-101.png
END:VEVENT
END:VCALENDAR